BEGIN:VCALENDAR
VERSION:2.0
PRODID:-//Jim Bohm - ECPv6.15.20//NONSGML v1.0//EN
CALSCALE:GREGORIAN
METHOD:PUBLISH
X-WR-CALNAME:Jim Bohm
X-ORIGINAL-URL:https://jimbohm.com
X-WR-CALDESC:Events for Jim Bohm
REFRESH-INTERVAL;VALUE=DURATION:PT1H
X-Robots-Tag:noindex
X-PUBLISHED-TTL:PT1H
BEGIN:VTIMEZONE
TZID:UTC
BEGIN:STANDARD
TZOFFSETFROM:+0000
TZOFFSETTO:+0000
TZNAME:UTC
DTSTART:20250101T000000
END:STANDARD
END:VTIMEZONE
BEGIN:VEVENT
DTSTART;TZID=UTC:20260307T180000
DTEND;TZID=UTC:20260307T210000
DTSTAMP:20260422T225213
CREATED:20260302T220438Z
LAST-MODIFIED:20260302T220813Z
UID:2730-1772906400-1772917200@jimbohm.com
SUMMARY:Live with the Rob Zinn Band!
DESCRIPTION:An awesome evening of soulful jazz from international recording artist and trumpet/flugelhorn player Rob Zinn!  The Casselberry Spring Jazz & Art Festival will feature a headline performance by Steve Oliver and Marion Meadows\, and I’ll be a member of the great Rob Zinn Band to open the show.  Good vibes and great music in the great outdoors!! \n  \n 
URL:https://jimbohm.com/events/live-with-the-rob-zinn-band/
LOCATION:Casselberry Park\, 95 Triplet Lake Drive\, Casselberry\, FL\, 32707\, United States
END:VEVENT
END:VCALENDAR