BEGIN:VCALENDAR
VERSION:2.0
PRODID:-//Jim Bohm - ECPv6.15.20//NONSGML v1.0//EN
CALSCALE:GREGORIAN
METHOD:PUBLISH
X-ORIGINAL-URL:https://jimbohm.com
X-WR-CALDESC:Events for Jim Bohm
REFRESH-INTERVAL;VALUE=DURATION:PT1H
X-Robots-Tag:noindex
X-PUBLISHED-TTL:PT1H
BEGIN:VTIMEZONE
TZID:UTC
BEGIN:STANDARD
TZOFFSETFROM:+0000
TZOFFSETTO:+0000
TZNAME:UTC
DTSTART:20250101T000000
END:STANDARD
END:VTIMEZONE
BEGIN:VEVENT
DTSTART;TZID=UTC:20260215T190000
DTEND;TZID=UTC:20260215T210000
DTSTAMP:20260422T125041
CREATED:20260211T013037Z
LAST-MODIFIED:20260211T013037Z
UID:2726-1771182000-1771189200@jimbohm.com
SUMMARY:The Leesburg Blues Brothers Live!
DESCRIPTION:I’ll be rocking out the trumpet chair for all your favorite music from The Blues Brothers!  Join us for a great night of music\, dancing and laughs!!  Follow the link below for tickets and information!!! \nhttps://www.eventbrite.com/e/1317885393689?aff=oddtdtcreator \n  \n 
URL:https://jimbohm.com/events/the-leesburg-blues-brothers-live/
LOCATION:Pennbrooke Fairways\, 501 Florida 44 Leesburg\, FL 34748\, Leesburg\, FL\, 34748\, United States
END:VEVENT
END:VCALENDAR